BEGIN:VCALENDAR
VERSION:2.0
PRODID:-//Wheeling Island - ECPv6.15.20//NONSGML v1.0//EN
CALSCALE:GREGORIAN
METHOD:PUBLISH
X-WR-CALNAME:Wheeling Island
X-ORIGINAL-URL:https://www.wheelingisland.com
X-WR-CALDESC:Events for Wheeling Island
REFRESH-INTERVAL;VALUE=DURATION:PT1H
X-Robots-Tag:noindex
X-PUBLISHED-TTL:PT1H
BEGIN:VTIMEZONE
TZID:America/New_York
BEGIN:DAYLIGHT
TZOFFSETFROM:-0500
TZOFFSETTO:-0400
TZNAME:EDT
DTSTART:20250309T070000
END:DAYLIGHT
BEGIN:STANDARD
TZOFFSETFROM:-0400
TZOFFSETTO:-0500
TZNAME:EST
DTSTART:20251102T060000
END:STANDARD
BEGIN:DAYLIGHT
TZOFFSETFROM:-0500
TZOFFSETTO:-0400
TZNAME:EDT
DTSTART:20260308T070000
END:DAYLIGHT
BEGIN:STANDARD
TZOFFSETFROM:-0400
TZOFFSETTO:-0500
TZNAME:EST
DTSTART:20261101T060000
END:STANDARD
BEGIN:DAYLIGHT
TZOFFSETFROM:-0500
TZOFFSETTO:-0400
TZNAME:EDT
DTSTART:20270314T070000
END:DAYLIGHT
BEGIN:STANDARD
TZOFFSETFROM:-0400
TZOFFSETTO:-0500
TZNAME:EST
DTSTART:20271107T060000
END:STANDARD
END:VTIMEZONE
BEGIN:VEVENT
DTSTART;TZID=America/New_York:20260502T190000
DTEND;TZID=America/New_York:20260502T220000
DTSTAMP:20260424T033617
CREATED:20260423T155219Z
LAST-MODIFIED:20260423T155219Z
UID:10004933-1777748400-1777759200@www.wheelingisland.com
SUMMARY:$700k Klinko Drawings
DESCRIPTION:Saturdays in May & June\n7pm–10pm | Near the Buffet \n\nPlay our Klinko game for a chance at Free Play or cash up to $10\,000 every week! \n7pm–9pm | 10 Free Play winners every hour\n10pm | 5 cash winners \n50 slot\, table games or poker base points = 1 entry \n100 racing base points = 1 entry\n(based on prior day racing wagers) \nEarn double entries Sunday – Thursday!
URL:https://www.wheelingisland.com/event/700k-klinko-drawings/2026-05-02/
CATEGORIES:Promotions
ATTACH;FMTTYPE=image/jpeg:https://www.wheelingisland.com/wp-content/uploads/2026/04/DN-6438_GWIH_Klinko_WebPromo_300x250_Apr26_V1.jpg
END:VEVENT
BEGIN:VEVENT
DTSTART;TZID=America/New_York:20260509T190000
DTEND;TZID=America/New_York:20260509T220000
DTSTAMP:20260424T033617
CREATED:20260423T155219Z
LAST-MODIFIED:20260423T155219Z
UID:10004934-1778353200-1778364000@www.wheelingisland.com
SUMMARY:$700k Klinko Drawings
DESCRIPTION:Saturdays in May & June\n7pm–10pm | Near the Buffet \n\nPlay our Klinko game for a chance at Free Play or cash up to $10\,000 every week! \n7pm–9pm | 10 Free Play winners every hour\n10pm | 5 cash winners \n50 slot\, table games or poker base points = 1 entry \n100 racing base points = 1 entry\n(based on prior day racing wagers) \nEarn double entries Sunday – Thursday!
URL:https://www.wheelingisland.com/event/700k-klinko-drawings/2026-05-09/
CATEGORIES:Promotions
ATTACH;FMTTYPE=image/jpeg:https://www.wheelingisland.com/wp-content/uploads/2026/04/DN-6438_GWIH_Klinko_WebPromo_300x250_Apr26_V1.jpg
END:VEVENT
BEGIN:VEVENT
DTSTART;TZID=America/New_York:20260516T190000
DTEND;TZID=America/New_York:20260516T220000
DTSTAMP:20260424T033617
CREATED:20260423T155219Z
LAST-MODIFIED:20260423T155219Z
UID:10004935-1778958000-1778968800@www.wheelingisland.com
SUMMARY:$700k Klinko Drawings
DESCRIPTION:Saturdays in May & June\n7pm–10pm | Near the Buffet \n\nPlay our Klinko game for a chance at Free Play or cash up to $10\,000 every week! \n7pm–9pm | 10 Free Play winners every hour\n10pm | 5 cash winners \n50 slot\, table games or poker base points = 1 entry \n100 racing base points = 1 entry\n(based on prior day racing wagers) \nEarn double entries Sunday – Thursday!
URL:https://www.wheelingisland.com/event/700k-klinko-drawings/2026-05-16/
CATEGORIES:Promotions
ATTACH;FMTTYPE=image/jpeg:https://www.wheelingisland.com/wp-content/uploads/2026/04/DN-6438_GWIH_Klinko_WebPromo_300x250_Apr26_V1.jpg
END:VEVENT
BEGIN:VEVENT
DTSTART;TZID=America/New_York:20260523T190000
DTEND;TZID=America/New_York:20260523T220000
DTSTAMP:20260424T033617
CREATED:20260423T155219Z
LAST-MODIFIED:20260423T155219Z
UID:10004936-1779562800-1779573600@www.wheelingisland.com
SUMMARY:$700k Klinko Drawings
DESCRIPTION:Saturdays in May & June\n7pm–10pm | Near the Buffet \n\nPlay our Klinko game for a chance at Free Play or cash up to $10\,000 every week! \n7pm–9pm | 10 Free Play winners every hour\n10pm | 5 cash winners \n50 slot\, table games or poker base points = 1 entry \n100 racing base points = 1 entry\n(based on prior day racing wagers) \nEarn double entries Sunday – Thursday!
URL:https://www.wheelingisland.com/event/700k-klinko-drawings/2026-05-23/
CATEGORIES:Promotions
ATTACH;FMTTYPE=image/jpeg:https://www.wheelingisland.com/wp-content/uploads/2026/04/DN-6438_GWIH_Klinko_WebPromo_300x250_Apr26_V1.jpg
END:VEVENT
BEGIN:VEVENT
DTSTART;TZID=America/New_York:20260530T190000
DTEND;TZID=America/New_York:20260530T220000
DTSTAMP:20260424T033617
CREATED:20260423T155219Z
LAST-MODIFIED:20260423T155219Z
UID:10004937-1780167600-1780178400@www.wheelingisland.com
SUMMARY:$700k Klinko Drawings
DESCRIPTION:Saturdays in May & June\n7pm–10pm | Near the Buffet \n\nPlay our Klinko game for a chance at Free Play or cash up to $10\,000 every week! \n7pm–9pm | 10 Free Play winners every hour\n10pm | 5 cash winners \n50 slot\, table games or poker base points = 1 entry \n100 racing base points = 1 entry\n(based on prior day racing wagers) \nEarn double entries Sunday – Thursday!
URL:https://www.wheelingisland.com/event/700k-klinko-drawings/2026-05-30/
CATEGORIES:Promotions
ATTACH;FMTTYPE=image/jpeg:https://www.wheelingisland.com/wp-content/uploads/2026/04/DN-6438_GWIH_Klinko_WebPromo_300x250_Apr26_V1.jpg
END:VEVENT
BEGIN:VEVENT
DTSTART;TZID=America/New_York:20260606T190000
DTEND;TZID=America/New_York:20260606T220000
DTSTAMP:20260424T033617
CREATED:20260423T155219Z
LAST-MODIFIED:20260423T155219Z
UID:10004938-1780772400-1780783200@www.wheelingisland.com
SUMMARY:$700k Klinko Drawings
DESCRIPTION:Saturdays in May & June\n7pm–10pm | Near the Buffet \n\nPlay our Klinko game for a chance at Free Play or cash up to $10\,000 every week! \n7pm–9pm | 10 Free Play winners every hour\n10pm | 5 cash winners \n50 slot\, table games or poker base points = 1 entry \n100 racing base points = 1 entry\n(based on prior day racing wagers) \nEarn double entries Sunday – Thursday!
URL:https://www.wheelingisland.com/event/700k-klinko-drawings/2026-06-06/
CATEGORIES:Promotions
ATTACH;FMTTYPE=image/jpeg:https://www.wheelingisland.com/wp-content/uploads/2026/04/DN-6438_GWIH_Klinko_WebPromo_300x250_Apr26_V1.jpg
END:VEVENT
BEGIN:VEVENT
DTSTART;TZID=America/New_York:20260613T190000
DTEND;TZID=America/New_York:20260613T220000
DTSTAMP:20260424T033617
CREATED:20260423T155219Z
LAST-MODIFIED:20260423T155219Z
UID:10004939-1781377200-1781388000@www.wheelingisland.com
SUMMARY:$700k Klinko Drawings
DESCRIPTION:Saturdays in May & June\n7pm–10pm | Near the Buffet \n\nPlay our Klinko game for a chance at Free Play or cash up to $10\,000 every week! \n7pm–9pm | 10 Free Play winners every hour\n10pm | 5 cash winners \n50 slot\, table games or poker base points = 1 entry \n100 racing base points = 1 entry\n(based on prior day racing wagers) \nEarn double entries Sunday – Thursday!
URL:https://www.wheelingisland.com/event/700k-klinko-drawings/2026-06-13/
CATEGORIES:Promotions
ATTACH;FMTTYPE=image/jpeg:https://www.wheelingisland.com/wp-content/uploads/2026/04/DN-6438_GWIH_Klinko_WebPromo_300x250_Apr26_V1.jpg
END:VEVENT
BEGIN:VEVENT
DTSTART;TZID=America/New_York:20260620T190000
DTEND;TZID=America/New_York:20260620T220000
DTSTAMP:20260424T033617
CREATED:20260423T155219Z
LAST-MODIFIED:20260423T155219Z
UID:10004940-1781982000-1781992800@www.wheelingisland.com
SUMMARY:$700k Klinko Drawings
DESCRIPTION:Saturdays in May & June\n7pm–10pm | Near the Buffet \n\nPlay our Klinko game for a chance at Free Play or cash up to $10\,000 every week! \n7pm–9pm | 10 Free Play winners every hour\n10pm | 5 cash winners \n50 slot\, table games or poker base points = 1 entry \n100 racing base points = 1 entry\n(based on prior day racing wagers) \nEarn double entries Sunday – Thursday!
URL:https://www.wheelingisland.com/event/700k-klinko-drawings/2026-06-20/
CATEGORIES:Promotions
ATTACH;FMTTYPE=image/jpeg:https://www.wheelingisland.com/wp-content/uploads/2026/04/DN-6438_GWIH_Klinko_WebPromo_300x250_Apr26_V1.jpg
END:VEVENT
BEGIN:VEVENT
DTSTART;TZID=America/New_York:20260627T190000
DTEND;TZID=America/New_York:20260627T220000
DTSTAMP:20260424T033617
CREATED:20260423T155219Z
LAST-MODIFIED:20260423T155219Z
UID:10004941-1782586800-1782597600@www.wheelingisland.com
SUMMARY:$700k Klinko Drawings
DESCRIPTION:Saturdays in May & June\n7pm–10pm | Near the Buffet \n\nPlay our Klinko game for a chance at Free Play or cash up to $10\,000 every week! \n7pm–9pm | 10 Free Play winners every hour\n10pm | 5 cash winners \n50 slot\, table games or poker base points = 1 entry \n100 racing base points = 1 entry\n(based on prior day racing wagers) \nEarn double entries Sunday – Thursday!
URL:https://www.wheelingisland.com/event/700k-klinko-drawings/2026-06-27/
CATEGORIES:Promotions
ATTACH;FMTTYPE=image/jpeg:https://www.wheelingisland.com/wp-content/uploads/2026/04/DN-6438_GWIH_Klinko_WebPromo_300x250_Apr26_V1.jpg
END:VEVENT
END:VCALENDAR