BEGIN:VCALENDAR
VERSION:2.0
PRODID:-//Wheeling Island - ECPv6.15.20//NONSGML v1.0//EN
CALSCALE:GREGORIAN
METHOD:PUBLISH
X-WR-CALNAME:Wheeling Island
X-ORIGINAL-URL:https://www.wheelingisland.com
X-WR-CALDESC:Events for Wheeling Island
REFRESH-INTERVAL;VALUE=DURATION:PT1H
X-Robots-Tag:noindex
X-PUBLISHED-TTL:PT1H
BEGIN:VTIMEZONE
TZID:America/New_York
BEGIN:DAYLIGHT
TZOFFSETFROM:-0500
TZOFFSETTO:-0400
TZNAME:EDT
DTSTART:20250309T070000
END:DAYLIGHT
BEGIN:STANDARD
TZOFFSETFROM:-0400
TZOFFSETTO:-0500
TZNAME:EST
DTSTART:20251102T060000
END:STANDARD
BEGIN:DAYLIGHT
TZOFFSETFROM:-0500
TZOFFSETTO:-0400
TZNAME:EDT
DTSTART:20260308T070000
END:DAYLIGHT
BEGIN:STANDARD
TZOFFSETFROM:-0400
TZOFFSETTO:-0500
TZNAME:EST
DTSTART:20261101T060000
END:STANDARD
BEGIN:DAYLIGHT
TZOFFSETFROM:-0500
TZOFFSETTO:-0400
TZNAME:EDT
DTSTART:20270314T070000
END:DAYLIGHT
BEGIN:STANDARD
TZOFFSETFROM:-0400
TZOFFSETTO:-0500
TZNAME:EST
DTSTART:20271107T060000
END:STANDARD
END:VTIMEZONE
BEGIN:VEVENT
DTSTART;TZID=America/New_York:20260424T190000
DTEND;TZID=America/New_York:20260424T220000
DTSTAMP:20260421T080323
CREATED:20260225T155336Z
LAST-MODIFIED:20260320T163823Z
UID:10004806-1777057200-1777068000@www.wheelingisland.com
SUMMARY:$100k Table Games Catch 21 & Run Drawings
DESCRIPTION:Fridays | 7pm – 10pm | Table Game Area \n\n3 winners every hour will play our card game promotion to win! \nGuaranteed to win at least $100. Earn entries by winning a qualifying hand on any table game or poker. \nEarn Double Entries Sunday-Thursday! \nDrop your entries into the drum starting at 6pm to have a chance to win. \nWheel Prizes Table\n\n\n\n    \n        \n            WHEEL PRIZES\n        \n        \n            Number of 21's\n            Prize\n        \n    \n    \n        \n            1\n            $250\n        \n        \n            2\n            $500\n        \n        \n            3\n            $1\,000
URL:https://www.wheelingisland.com/event/100k-table-games-catch-21-run-drawings/2026-04-24/
CATEGORIES:Promotions
ATTACH;FMTTYPE=image/jpeg:https://www.wheelingisland.com/wp-content/uploads/2026/02/DN-3302_GWIH_Catch21_WebPromo_300x250_Feb26_V1.jpg
END:VEVENT
END:VCALENDAR