BEGIN:VCALENDAR
VERSION:2.0
PRODID:-//Wheeling Island - ECPv6.15.20//NONSGML v1.0//EN
CALSCALE:GREGORIAN
METHOD:PUBLISH
X-WR-CALNAME:Wheeling Island
X-ORIGINAL-URL:https://www.wheelingisland.com
X-WR-CALDESC:Events for Wheeling Island
REFRESH-INTERVAL;VALUE=DURATION:PT1H
X-Robots-Tag:noindex
X-PUBLISHED-TTL:PT1H
BEGIN:VTIMEZONE
TZID:America/New_York
BEGIN:DAYLIGHT
TZOFFSETFROM:-0500
TZOFFSETTO:-0400
TZNAME:EDT
DTSTART:20250309T070000
END:DAYLIGHT
BEGIN:STANDARD
TZOFFSETFROM:-0400
TZOFFSETTO:-0500
TZNAME:EST
DTSTART:20251102T060000
END:STANDARD
BEGIN:DAYLIGHT
TZOFFSETFROM:-0500
TZOFFSETTO:-0400
TZNAME:EDT
DTSTART:20260308T070000
END:DAYLIGHT
BEGIN:STANDARD
TZOFFSETFROM:-0400
TZOFFSETTO:-0500
TZNAME:EST
DTSTART:20261101T060000
END:STANDARD
BEGIN:DAYLIGHT
TZOFFSETFROM:-0500
TZOFFSETTO:-0400
TZNAME:EDT
DTSTART:20270314T070000
END:DAYLIGHT
BEGIN:STANDARD
TZOFFSETFROM:-0400
TZOFFSETTO:-0500
TZNAME:EST
DTSTART:20271107T060000
END:STANDARD
END:VTIMEZONE
BEGIN:VTIMEZONE
TZID:UTC
BEGIN:STANDARD
TZOFFSETFROM:+0000
TZOFFSETTO:+0000
TZNAME:UTC
DTSTART:20250101T000000
END:STANDARD
END:VTIMEZONE
BEGIN:VEVENT
DTSTART;TZID=America/New_York:20260506T080000
DTEND;TZID=America/New_York:20260506T200000
DTSTAMP:20260423T223346
CREATED:20260216T164935Z
LAST-MODIFIED:20260423T175942Z
UID:10004963-1778054400-1778097600@www.wheelingisland.com
SUMMARY:Wing & Taco Wednesday
DESCRIPTION:Earn & Redeem | 8am – 7:30pm\nDine | 3pm – 8pm \n\nEarn points and swipe at any kiosk for your Wednesday buffet credit. \n100 Base Points: $30 Buffet Credit\n200 Base Points: $60 Buffet Credit
URL:https://www.wheelingisland.com/event/wing-taco-wednesday/2026-05-06/
CATEGORIES:Dining,Promotions
ATTACH;FMTTYPE=image/jpeg:https://www.wheelingisland.com/wp-content/uploads/2026/02/DN-3301_GWIH_WingTacoWeds_WebPromo_300x250_Feb26_V1.jpg
END:VEVENT
BEGIN:VEVENT
DTSTART;TZID=America/New_York:20260506T130000
DTEND;TZID=America/New_York:20260506T170000
DTSTAMP:20260423T223346
CREATED:20260225T155921Z
LAST-MODIFIED:20260423T180739Z
UID:10004967-1778072400-1778086800@www.wheelingisland.com
SUMMARY:Surprise and Delight Wednesdays
DESCRIPTION:Wednesdays | 1pm – 5pm | The Gaming Floor \n\n5 Winners Every Hour At Your Gaming Machine! \nPlay slots to have a chance to win Free Play. Stay in your seat and hopefully the Wheeling Island Prize Patrol will stop at your game!
URL:https://www.wheelingisland.com/event/surprise-and-delight-wednesdays/2026-05-06/
CATEGORIES:Promotions
ATTACH;FMTTYPE=image/jpeg:https://www.wheelingisland.com/wp-content/uploads/2026/02/DN-3302_GWIH_SurpriseAndDelightWed_WebPromo_300x250_Feb26_V1.jpg
END:VEVENT
BEGIN:VEVENT
DTSTART;TZID=America/New_York:20260507T160000
DTEND;TZID=America/New_York:20260507T220000
DTSTAMP:20260423T223346
CREATED:20251230T163519Z
LAST-MODIFIED:20260423T181054Z
UID:10004971-1778169600-1778191200@www.wheelingisland.com
SUMMARY:Thundering Thursdays Hot Seats
DESCRIPTION:Thursdays | 4pm – 10pm \n\n4 winners every 15 minutes! Use your Lucky North® Rewards card and play on any eligible slot machine to win up to $50. \n100 winners will receive $10 to $100 free play.
URL:https://www.wheelingisland.com/event/thundering-thursdays-hot-seats/2026-05-07/
CATEGORIES:Promotions
ATTACH;FMTTYPE=image/jpeg:https://www.wheelingisland.com/wp-content/uploads/2025/12/DN_709_GWIH_ThunderingThursdaysHotSeats_WebPromo_300x250_Dec25.jpg
END:VEVENT
BEGIN:VEVENT
DTSTART;VALUE=DATE:20260508
DTEND;VALUE=DATE:20260509
DTSTAMP:20260423T223346
CREATED:20251230T163329Z
LAST-MODIFIED:20260423T183226Z
UID:10004981-1778198400-1778284799@www.wheelingisland.com
SUMMARY:Early Bird & Late Night Free Play Madness
DESCRIPTION:Fridays | Early Bird 6am – 10am | Late Night 11pm – 3am\n \n\n10 winners every 15 minutes! \nPlay with your card in the machine for your chance to win up to $100!
URL:https://www.wheelingisland.com/event/early-bird-late-night-free-play-madness/2026-05-08/
CATEGORIES:Promotions
ATTACH;FMTTYPE=image/jpeg:https://www.wheelingisland.com/wp-content/uploads/2025/12/DN_709_GWIH_FreePlayMadness_WebPromo_300x250_Dec25.jpg
END:VEVENT
BEGIN:VEVENT
DTSTART;TZID=UTC:20260508T140000
DTEND;TZID=UTC:20260508T220000
DTSTAMP:20260423T223346
CREATED:20241112T212147Z
LAST-MODIFIED:20260423T183009Z
UID:10004976-1778248800-1778277600@www.wheelingisland.com
SUMMARY:Earn & Get Gift Giveaway
DESCRIPTION:Fridays | Earn 8am – 10pm | Swipe 2pm – 10pm\n\n$15 Free Play or Gift Rewards Voucher \nEarn 100 base points and swipe at any kiosk to choose your gift. \nVIP MEMBERS: Swipe at the kiosk to receive an additional $15 Free Play! \nClick here to preview the available gifts. \n  \nSee official rules at the Lucky North® Rewards desk.
URL:https://www.wheelingisland.com/event/earn-and-get-gift-giveaway-3/2026-05-08/
CATEGORIES:Promotions
ATTACH;FMTTYPE=image/jpeg:https://www.wheelingisland.com/wp-content/uploads/2024/11/GWHI7473_EarnGet_WebPromo_300x250_Aug25.jpg
END:VEVENT
BEGIN:VEVENT
DTSTART;TZID=America/New_York:20260508T190000
DTEND;TZID=America/New_York:20260508T220000
DTSTAMP:20260423T223346
CREATED:20260423T155701Z
LAST-MODIFIED:20260423T155701Z
UID:10004943-1778266800-1778277600@www.wheelingisland.com
SUMMARY:$350k Table Games Money Grab Drawings
DESCRIPTION:Fridays in May & June\n7pm – 10pm | Table Games Area \n\n5 players every hour enter our Money Grab Machine to win! \nGuaranteed to win at least $100. Earn entries by winning a qualifying hand on any table game or poker. \nEarn Double Entries Sunday – Thursday! \nDrop your entries into the drum starting at 6pm for your chance to win.
URL:https://www.wheelingisland.com/event/350k-table-games-money-grab-drawings/2026-05-08/
CATEGORIES:Promotions
ATTACH;FMTTYPE=image/jpeg:https://www.wheelingisland.com/wp-content/uploads/2026/04/DN-6438_GWIH_MoneyGrab_WebPromo_300x250_Apr26_V1.jpg
END:VEVENT
BEGIN:VEVENT
DTSTART;TZID=UTC:20260508T200000
DTEND;TZID=UTC:20260508T200000
DTSTAMP:20260423T223346
CREATED:20240726T212911Z
LAST-MODIFIED:20260416T135311Z
UID:10004931-1778270400-1778270400@www.wheelingisland.com
SUMMARY:The Comedy Club at Wheeling
DESCRIPTION:The Comedy Club Presents Dinner and Laughs with Billy Ray Bauer and Ant Morrow | Buy Tickets\nMay 8\, 2026 | 8pm\nDoors 6:30pm at The Comedy Club at Wheeling Island\nMust be 21 or older to attend all entertainment. \nThe Comedy Club Presents Dinner and Laughs with Jody Kerns and Tony Wendland | Buy Tickets\nMay 22\, 2026 | 8pm\nDoors 6:30pm at The Comedy Club at Wheeling Island\nMust be 21 or older to attend all entertainment.
URL:https://www.wheelingisland.com/event/the-comedy-club-at-wheeling/2026-05-08/
CATEGORIES:Live Entertainment,Promotions
ATTACH;FMTTYPE=image/jpeg:https://www.wheelingisland.com/wp-content/uploads/2024/07/GWHI7473_ComedyClub_WebPromo_300x250_Aug25.jpg
END:VEVENT
BEGIN:VEVENT
DTSTART;TZID=America/New_York:20260509T140000
DTEND;TZID=America/New_York:20260509T170000
DTSTAMP:20260423T223346
CREATED:20260225T160043Z
LAST-MODIFIED:20260423T183701Z
UID:10004986-1778335200-1778346000@www.wheelingisland.com
SUMMARY:Spin To Win Saturdays
DESCRIPTION:Saturdays* | 2pm – 5pm | The Island Stage\n*Excluding May 2 \n\n10 Winners Every Hour! \nEarn 100 base points 8am to 5pm on Saturday for a chance to win Free Play! Free Play is multiplied by tier. \nRuby: 1X | Emerald: 2X | Sapphire: 3X | Diamond: 4X | Black Diamond: 5X | Reel Deal: 6X
URL:https://www.wheelingisland.com/event/spin-to-win-saturdays/2026-05-09/
CATEGORIES:Promotions
ATTACH;FMTTYPE=image/jpeg:https://www.wheelingisland.com/wp-content/uploads/2026/02/DN-3302_GWIH_SpinToWinSat_WebPromo_300x250_Feb26_V1.jpg
END:VEVENT
BEGIN:VEVENT
DTSTART;TZID=America/New_York:20260509T190000
DTEND;TZID=America/New_York:20260509T220000
DTSTAMP:20260423T223346
CREATED:20260423T155219Z
LAST-MODIFIED:20260423T155219Z
UID:10004934-1778353200-1778364000@www.wheelingisland.com
SUMMARY:$700k Klinko Drawings
DESCRIPTION:Saturdays in May & June\n7pm–10pm | Near the Buffet \n\nPlay our Klinko game for a chance at Free Play or cash up to $10\,000 every week! \n7pm–9pm | 10 Free Play winners every hour\n10pm | 5 cash winners \n50 slot\, table games or poker base points = 1 entry \n100 racing base points = 1 entry\n(based on prior day racing wagers) \nEarn double entries Sunday – Thursday!
URL:https://www.wheelingisland.com/event/700k-klinko-drawings/2026-05-09/
CATEGORIES:Promotions
ATTACH;FMTTYPE=image/jpeg:https://www.wheelingisland.com/wp-content/uploads/2026/04/DN-6438_GWIH_Klinko_WebPromo_300x250_Apr26_V1.jpg
END:VEVENT
BEGIN:VEVENT
DTSTART;TZID=America/New_York:20260510T080000
DTEND;TZID=America/New_York:20260510T220000
DTSTAMP:20260423T223346
CREATED:20251230T163905Z
LAST-MODIFIED:20260423T184158Z
UID:10004991-1778400000-1778450400@www.wheelingisland.com
SUMMARY:Levels of Loot Progressive Earn-N-Win
DESCRIPTION:Sundays | 8am – 10pm \n\nEarn points and redeem Free Play. Swipe at any kiosk to play a game and win up to $5\,000 Free Play!
URL:https://www.wheelingisland.com/event/levels-of-loot-progressive-earn-n-win/2026-05-10/
CATEGORIES:Promotions
ATTACH;FMTTYPE=image/jpeg:https://www.wheelingisland.com/wp-content/uploads/2025/12/DN_709_GWIH_LevelsOfLoot_Progressive_Earn_WebPromo_300x250_Dec25.jpg
END:VEVENT
BEGIN:VEVENT
DTSTART;TZID=America/New_York:20260511T080000
DTEND;TZID=America/New_York:20260511T080000
DTSTAMP:20260423T223346
CREATED:20250929T184458Z
LAST-MODIFIED:20260423T174757Z
UID:10004953-1778486400-1778486400@www.wheelingisland.com
SUMMARY:Monday Madness
DESCRIPTION:Mondays & Tuesdays\nEarn Monday 8am – 4am and redeem Tuesday 8am – Midnight \n\nEarn each level of base points on Monday and receive the prizes offered. Earn 300 points and get both of the highest offers. \n\n100 Base Points: $20 Gravitate or Cask & Clover\n200 Base Points: $30 Gravitate or Cask & Clover\n300 Base Points: $40 Gravitate or Cask & Clover\n\nAnd a mystery kiosk game to win up to $2\,500 Free Play! \nSwipe at any kiosk to receive your prize. Valid Tuesday that week only.
URL:https://www.wheelingisland.com/event/monday-madness/2026-05-11/
CATEGORIES:Promotions
ATTACH;FMTTYPE=image/jpeg:https://www.wheelingisland.com/wp-content/uploads/2025/09/GWHI7516_MondayMadness_WebPromo_300x250_Sept25.jpg
END:VEVENT
BEGIN:VEVENT
DTSTART;TZID=America/New_York:20260512T080000
DTEND;TZID=America/New_York:20260512T080000
DTSTAMP:20260423T223346
CREATED:20250929T184458Z
LAST-MODIFIED:20260423T174757Z
UID:10004954-1778572800-1778572800@www.wheelingisland.com
SUMMARY:Monday Madness
DESCRIPTION:Mondays & Tuesdays\nEarn Monday 8am – 4am and redeem Tuesday 8am – Midnight \n\nEarn each level of base points on Monday and receive the prizes offered. Earn 300 points and get both of the highest offers. \n\n100 Base Points: $20 Gravitate or Cask & Clover\n200 Base Points: $30 Gravitate or Cask & Clover\n300 Base Points: $40 Gravitate or Cask & Clover\n\nAnd a mystery kiosk game to win up to $2\,500 Free Play! \nSwipe at any kiosk to receive your prize. Valid Tuesday that week only.
URL:https://www.wheelingisland.com/event/monday-madness/2026-05-12/
CATEGORIES:Promotions
ATTACH;FMTTYPE=image/jpeg:https://www.wheelingisland.com/wp-content/uploads/2025/09/GWHI7516_MondayMadness_WebPromo_300x250_Sept25.jpg
END:VEVENT
BEGIN:VEVENT
DTSTART;TZID=America/New_York:20260512T080000
DTEND;TZID=America/New_York:20260512T220000
DTSTAMP:20260423T223346
CREATED:20251215T153515Z
LAST-MODIFIED:20260423T175524Z
UID:10004960-1778572800-1778623200@www.wheelingisland.com
SUMMARY:Lucky Legends Two For Tuesday
DESCRIPTION:Tuesdays | 8am – 10pm | Members 50+ \n\nEarn 100 base points and receive two offers. Play a game on any slot machine to win mystery free play up to 3x and swipe at any kiosk to receive a $10 food offer!
URL:https://www.wheelingisland.com/event/lucky-legends-two-for-tuesday/2026-05-12/
CATEGORIES:Promotions
ATTACH;FMTTYPE=image/jpeg:https://www.wheelingisland.com/wp-content/uploads/2025/12/DN_709_GWIH_LuckyLegendsTuesdays_WebPromo_300x250_Dec25-1.jpg
END:VEVENT
BEGIN:VEVENT
DTSTART;TZID=America/New_York:20260513T080000
DTEND;TZID=America/New_York:20260513T200000
DTSTAMP:20260423T223346
CREATED:20260216T164935Z
LAST-MODIFIED:20260423T175942Z
UID:10004964-1778659200-1778702400@www.wheelingisland.com
SUMMARY:Wing & Taco Wednesday
DESCRIPTION:Earn & Redeem | 8am – 7:30pm\nDine | 3pm – 8pm \n\nEarn points and swipe at any kiosk for your Wednesday buffet credit. \n100 Base Points: $30 Buffet Credit\n200 Base Points: $60 Buffet Credit
URL:https://www.wheelingisland.com/event/wing-taco-wednesday/2026-05-13/
CATEGORIES:Dining,Promotions
ATTACH;FMTTYPE=image/jpeg:https://www.wheelingisland.com/wp-content/uploads/2026/02/DN-3301_GWIH_WingTacoWeds_WebPromo_300x250_Feb26_V1.jpg
END:VEVENT
BEGIN:VEVENT
DTSTART;TZID=America/New_York:20260513T130000
DTEND;TZID=America/New_York:20260513T170000
DTSTAMP:20260423T223346
CREATED:20260225T155921Z
LAST-MODIFIED:20260423T180739Z
UID:10004968-1778677200-1778691600@www.wheelingisland.com
SUMMARY:Surprise and Delight Wednesdays
DESCRIPTION:Wednesdays | 1pm – 5pm | The Gaming Floor \n\n5 Winners Every Hour At Your Gaming Machine! \nPlay slots to have a chance to win Free Play. Stay in your seat and hopefully the Wheeling Island Prize Patrol will stop at your game!
URL:https://www.wheelingisland.com/event/surprise-and-delight-wednesdays/2026-05-13/
CATEGORIES:Promotions
ATTACH;FMTTYPE=image/jpeg:https://www.wheelingisland.com/wp-content/uploads/2026/02/DN-3302_GWIH_SurpriseAndDelightWed_WebPromo_300x250_Feb26_V1.jpg
END:VEVENT
BEGIN:VEVENT
DTSTART;TZID=America/New_York:20260514T160000
DTEND;TZID=America/New_York:20260514T220000
DTSTAMP:20260423T223346
CREATED:20251230T163519Z
LAST-MODIFIED:20260423T181054Z
UID:10004972-1778774400-1778796000@www.wheelingisland.com
SUMMARY:Thundering Thursdays Hot Seats
DESCRIPTION:Thursdays | 4pm – 10pm \n\n4 winners every 15 minutes! Use your Lucky North® Rewards card and play on any eligible slot machine to win up to $50. \n100 winners will receive $10 to $100 free play.
URL:https://www.wheelingisland.com/event/thundering-thursdays-hot-seats/2026-05-14/
CATEGORIES:Promotions
ATTACH;FMTTYPE=image/jpeg:https://www.wheelingisland.com/wp-content/uploads/2025/12/DN_709_GWIH_ThunderingThursdaysHotSeats_WebPromo_300x250_Dec25.jpg
END:VEVENT
BEGIN:VEVENT
DTSTART;VALUE=DATE:20260515
DTEND;VALUE=DATE:20260516
DTSTAMP:20260423T223346
CREATED:20251230T163329Z
LAST-MODIFIED:20260423T183226Z
UID:10004982-1778803200-1778889599@www.wheelingisland.com
SUMMARY:Early Bird & Late Night Free Play Madness
DESCRIPTION:Fridays | Early Bird 6am – 10am | Late Night 11pm – 3am\n \n\n10 winners every 15 minutes! \nPlay with your card in the machine for your chance to win up to $100!
URL:https://www.wheelingisland.com/event/early-bird-late-night-free-play-madness/2026-05-15/
CATEGORIES:Promotions
ATTACH;FMTTYPE=image/jpeg:https://www.wheelingisland.com/wp-content/uploads/2025/12/DN_709_GWIH_FreePlayMadness_WebPromo_300x250_Dec25.jpg
END:VEVENT
BEGIN:VEVENT
DTSTART;TZID=UTC:20260515T140000
DTEND;TZID=UTC:20260515T220000
DTSTAMP:20260423T223346
CREATED:20241112T212147Z
LAST-MODIFIED:20260423T183009Z
UID:10004977-1778853600-1778882400@www.wheelingisland.com
SUMMARY:Earn & Get Gift Giveaway
DESCRIPTION:Fridays | Earn 8am – 10pm | Swipe 2pm – 10pm\n\n$15 Free Play or Gift Rewards Voucher \nEarn 100 base points and swipe at any kiosk to choose your gift. \nVIP MEMBERS: Swipe at the kiosk to receive an additional $15 Free Play! \nClick here to preview the available gifts. \n  \nSee official rules at the Lucky North® Rewards desk.
URL:https://www.wheelingisland.com/event/earn-and-get-gift-giveaway-3/2026-05-15/
CATEGORIES:Promotions
ATTACH;FMTTYPE=image/jpeg:https://www.wheelingisland.com/wp-content/uploads/2024/11/GWHI7473_EarnGet_WebPromo_300x250_Aug25.jpg
END:VEVENT
BEGIN:VEVENT
DTSTART;TZID=America/New_York:20260515T190000
DTEND;TZID=America/New_York:20260515T220000
DTSTAMP:20260423T223346
CREATED:20260423T155701Z
LAST-MODIFIED:20260423T155701Z
UID:10004944-1778871600-1778882400@www.wheelingisland.com
SUMMARY:$350k Table Games Money Grab Drawings
DESCRIPTION:Fridays in May & June\n7pm – 10pm | Table Games Area \n\n5 players every hour enter our Money Grab Machine to win! \nGuaranteed to win at least $100. Earn entries by winning a qualifying hand on any table game or poker. \nEarn Double Entries Sunday – Thursday! \nDrop your entries into the drum starting at 6pm for your chance to win.
URL:https://www.wheelingisland.com/event/350k-table-games-money-grab-drawings/2026-05-15/
CATEGORIES:Promotions
ATTACH;FMTTYPE=image/jpeg:https://www.wheelingisland.com/wp-content/uploads/2026/04/DN-6438_GWIH_MoneyGrab_WebPromo_300x250_Apr26_V1.jpg
END:VEVENT
BEGIN:VEVENT
DTSTART;TZID=America/New_York:20260516T140000
DTEND;TZID=America/New_York:20260516T170000
DTSTAMP:20260423T223346
CREATED:20260225T160043Z
LAST-MODIFIED:20260423T183701Z
UID:10004987-1778940000-1778950800@www.wheelingisland.com
SUMMARY:Spin To Win Saturdays
DESCRIPTION:Saturdays* | 2pm – 5pm | The Island Stage\n*Excluding May 2 \n\n10 Winners Every Hour! \nEarn 100 base points 8am to 5pm on Saturday for a chance to win Free Play! Free Play is multiplied by tier. \nRuby: 1X | Emerald: 2X | Sapphire: 3X | Diamond: 4X | Black Diamond: 5X | Reel Deal: 6X
URL:https://www.wheelingisland.com/event/spin-to-win-saturdays/2026-05-16/
CATEGORIES:Promotions
ATTACH;FMTTYPE=image/jpeg:https://www.wheelingisland.com/wp-content/uploads/2026/02/DN-3302_GWIH_SpinToWinSat_WebPromo_300x250_Feb26_V1.jpg
END:VEVENT
BEGIN:VEVENT
DTSTART;TZID=America/New_York:20260516T190000
DTEND;TZID=America/New_York:20260516T213000
DTSTAMP:20260423T223346
CREATED:20250116T211859Z
LAST-MODIFIED:20260401T180610Z
UID:10003169-1778958000-1778967000@www.wheelingisland.com
SUMMARY:The Classic Rock Experience
DESCRIPTION:Saturday\, May 16 in The Showroom\nDoors open at 7pm\, show starts at 8pm\nGeneral admission tickets are just $25\nThe ultimate rock show is coming your way! Join us at Wheeling Island on Saturday\, May 16 for The Classic Rock Experience! Featuring the music of Queen\, Zeppelin\, Journey\, Styx\, Pink Floyd and more\, these talented performers will bring you a night of non-stop classic rock hits. \nTickets are available now on Ticketmaster.com or by visiting the Lucky North® Rewards desk. \nPurchase Tickets \n\nMust be 21 or older to attend all entertainment.
URL:https://www.wheelingisland.com/event/the-classic-rock-experience/
CATEGORIES:Live Entertainment,Promotions
ATTACH;FMTTYPE=image/jpeg:https://www.wheelingisland.com/wp-content/uploads/2025/01/DN-2337_WIH_ClassicRock_WebPromo_300x250March26_v2.jpg
END:VEVENT
BEGIN:VEVENT
DTSTART;TZID=America/New_York:20260516T190000
DTEND;TZID=America/New_York:20260516T220000
DTSTAMP:20260423T223346
CREATED:20260423T155219Z
LAST-MODIFIED:20260423T155219Z
UID:10004935-1778958000-1778968800@www.wheelingisland.com
SUMMARY:$700k Klinko Drawings
DESCRIPTION:Saturdays in May & June\n7pm–10pm | Near the Buffet \n\nPlay our Klinko game for a chance at Free Play or cash up to $10\,000 every week! \n7pm–9pm | 10 Free Play winners every hour\n10pm | 5 cash winners \n50 slot\, table games or poker base points = 1 entry \n100 racing base points = 1 entry\n(based on prior day racing wagers) \nEarn double entries Sunday – Thursday!
URL:https://www.wheelingisland.com/event/700k-klinko-drawings/2026-05-16/
CATEGORIES:Promotions
ATTACH;FMTTYPE=image/jpeg:https://www.wheelingisland.com/wp-content/uploads/2026/04/DN-6438_GWIH_Klinko_WebPromo_300x250_Apr26_V1.jpg
END:VEVENT
BEGIN:VEVENT
DTSTART;TZID=America/New_York:20260517T080000
DTEND;TZID=America/New_York:20260517T220000
DTSTAMP:20260423T223346
CREATED:20251230T163905Z
LAST-MODIFIED:20260423T184158Z
UID:10004992-1779004800-1779055200@www.wheelingisland.com
SUMMARY:Levels of Loot Progressive Earn-N-Win
DESCRIPTION:Sundays | 8am – 10pm \n\nEarn points and redeem Free Play. Swipe at any kiosk to play a game and win up to $5\,000 Free Play!
URL:https://www.wheelingisland.com/event/levels-of-loot-progressive-earn-n-win/2026-05-17/
CATEGORIES:Promotions
ATTACH;FMTTYPE=image/jpeg:https://www.wheelingisland.com/wp-content/uploads/2025/12/DN_709_GWIH_LevelsOfLoot_Progressive_Earn_WebPromo_300x250_Dec25.jpg
END:VEVENT
BEGIN:VEVENT
DTSTART;TZID=America/New_York:20260517T160000
DTEND;TZID=America/New_York:20260517T190000
DTSTAMP:20260423T223346
CREATED:20251230T162407Z
LAST-MODIFIED:20260423T190358Z
UID:10004997-1779033600-1779044400@www.wheelingisland.com
SUMMARY:Friends with More Benefits
DESCRIPTION:Sundays* | 4pm – 7pm | The Island Stage\n*Excluding May 10 \n\n10 winners every hour! \nEarn 50 base points on Sunday and you’ll win Free Play for you and a friend. That’s $100 Free Play for you and your friend. Spin the wheel to multiply both prizes UP TO 10X!
URL:https://www.wheelingisland.com/event/friends-with-more-benefits/2026-05-17/
CATEGORIES:Promotions
ATTACH;FMTTYPE=image/jpeg:https://www.wheelingisland.com/wp-content/uploads/2025/12/DN_709_GWIH_FriendsWithMoreBenefits_WebPromo_300x250_Dec25.jpg
END:VEVENT
BEGIN:VEVENT
DTSTART;TZID=America/New_York:20260518T080000
DTEND;TZID=America/New_York:20260518T080000
DTSTAMP:20260423T223346
CREATED:20250929T184458Z
LAST-MODIFIED:20260423T174757Z
UID:10004955-1779091200-1779091200@www.wheelingisland.com
SUMMARY:Monday Madness
DESCRIPTION:Mondays & Tuesdays\nEarn Monday 8am – 4am and redeem Tuesday 8am – Midnight \n\nEarn each level of base points on Monday and receive the prizes offered. Earn 300 points and get both of the highest offers. \n\n100 Base Points: $20 Gravitate or Cask & Clover\n200 Base Points: $30 Gravitate or Cask & Clover\n300 Base Points: $40 Gravitate or Cask & Clover\n\nAnd a mystery kiosk game to win up to $2\,500 Free Play! \nSwipe at any kiosk to receive your prize. Valid Tuesday that week only.
URL:https://www.wheelingisland.com/event/monday-madness/2026-05-18/
CATEGORIES:Promotions
ATTACH;FMTTYPE=image/jpeg:https://www.wheelingisland.com/wp-content/uploads/2025/09/GWHI7516_MondayMadness_WebPromo_300x250_Sept25.jpg
END:VEVENT
BEGIN:VEVENT
DTSTART;TZID=America/New_York:20260519T080000
DTEND;TZID=America/New_York:20260519T080000
DTSTAMP:20260423T223346
CREATED:20250929T184458Z
LAST-MODIFIED:20260423T174757Z
UID:10004956-1779177600-1779177600@www.wheelingisland.com
SUMMARY:Monday Madness
DESCRIPTION:Mondays & Tuesdays\nEarn Monday 8am – 4am and redeem Tuesday 8am – Midnight \n\nEarn each level of base points on Monday and receive the prizes offered. Earn 300 points and get both of the highest offers. \n\n100 Base Points: $20 Gravitate or Cask & Clover\n200 Base Points: $30 Gravitate or Cask & Clover\n300 Base Points: $40 Gravitate or Cask & Clover\n\nAnd a mystery kiosk game to win up to $2\,500 Free Play! \nSwipe at any kiosk to receive your prize. Valid Tuesday that week only.
URL:https://www.wheelingisland.com/event/monday-madness/2026-05-19/
CATEGORIES:Promotions
ATTACH;FMTTYPE=image/jpeg:https://www.wheelingisland.com/wp-content/uploads/2025/09/GWHI7516_MondayMadness_WebPromo_300x250_Sept25.jpg
END:VEVENT
BEGIN:VEVENT
DTSTART;TZID=America/New_York:20260519T080000
DTEND;TZID=America/New_York:20260519T220000
DTSTAMP:20260423T223346
CREATED:20251215T153515Z
LAST-MODIFIED:20260423T175524Z
UID:10004961-1779177600-1779228000@www.wheelingisland.com
SUMMARY:Lucky Legends Two For Tuesday
DESCRIPTION:Tuesdays | 8am – 10pm | Members 50+ \n\nEarn 100 base points and receive two offers. Play a game on any slot machine to win mystery free play up to 3x and swipe at any kiosk to receive a $10 food offer!
URL:https://www.wheelingisland.com/event/lucky-legends-two-for-tuesday/2026-05-19/
CATEGORIES:Promotions
ATTACH;FMTTYPE=image/jpeg:https://www.wheelingisland.com/wp-content/uploads/2025/12/DN_709_GWIH_LuckyLegendsTuesdays_WebPromo_300x250_Dec25-1.jpg
END:VEVENT
BEGIN:VEVENT
DTSTART;TZID=America/New_York:20260520T080000
DTEND;TZID=America/New_York:20260520T200000
DTSTAMP:20260423T223346
CREATED:20260216T164935Z
LAST-MODIFIED:20260423T175942Z
UID:10004965-1779264000-1779307200@www.wheelingisland.com
SUMMARY:Wing & Taco Wednesday
DESCRIPTION:Earn & Redeem | 8am – 7:30pm\nDine | 3pm – 8pm \n\nEarn points and swipe at any kiosk for your Wednesday buffet credit. \n100 Base Points: $30 Buffet Credit\n200 Base Points: $60 Buffet Credit
URL:https://www.wheelingisland.com/event/wing-taco-wednesday/2026-05-20/
CATEGORIES:Dining,Promotions
ATTACH;FMTTYPE=image/jpeg:https://www.wheelingisland.com/wp-content/uploads/2026/02/DN-3301_GWIH_WingTacoWeds_WebPromo_300x250_Feb26_V1.jpg
END:VEVENT
BEGIN:VEVENT
DTSTART;TZID=America/New_York:20260520T130000
DTEND;TZID=America/New_York:20260520T170000
DTSTAMP:20260423T223346
CREATED:20260225T155921Z
LAST-MODIFIED:20260423T180739Z
UID:10004969-1779282000-1779296400@www.wheelingisland.com
SUMMARY:Surprise and Delight Wednesdays
DESCRIPTION:Wednesdays | 1pm – 5pm | The Gaming Floor \n\n5 Winners Every Hour At Your Gaming Machine! \nPlay slots to have a chance to win Free Play. Stay in your seat and hopefully the Wheeling Island Prize Patrol will stop at your game!
URL:https://www.wheelingisland.com/event/surprise-and-delight-wednesdays/2026-05-20/
CATEGORIES:Promotions
ATTACH;FMTTYPE=image/jpeg:https://www.wheelingisland.com/wp-content/uploads/2026/02/DN-3302_GWIH_SurpriseAndDelightWed_WebPromo_300x250_Feb26_V1.jpg
END:VEVENT
BEGIN:VEVENT
DTSTART;TZID=America/New_York:20260521T160000
DTEND;TZID=America/New_York:20260521T220000
DTSTAMP:20260423T223346
CREATED:20251230T163519Z
LAST-MODIFIED:20260423T181054Z
UID:10004973-1779379200-1779400800@www.wheelingisland.com
SUMMARY:Thundering Thursdays Hot Seats
DESCRIPTION:Thursdays | 4pm – 10pm \n\n4 winners every 15 minutes! Use your Lucky North® Rewards card and play on any eligible slot machine to win up to $50. \n100 winners will receive $10 to $100 free play.
URL:https://www.wheelingisland.com/event/thundering-thursdays-hot-seats/2026-05-21/
CATEGORIES:Promotions
ATTACH;FMTTYPE=image/jpeg:https://www.wheelingisland.com/wp-content/uploads/2025/12/DN_709_GWIH_ThunderingThursdaysHotSeats_WebPromo_300x250_Dec25.jpg
END:VEVENT
END:VCALENDAR