BEGIN:VCALENDAR
VERSION:2.0
PRODID:-//Wheeling Island - ECPv6.15.20//NONSGML v1.0//EN
CALSCALE:GREGORIAN
METHOD:PUBLISH
X-ORIGINAL-URL:https://www.wheelingisland.com
X-WR-CALDESC:Events for Wheeling Island
REFRESH-INTERVAL;VALUE=DURATION:PT1H
X-Robots-Tag:noindex
X-PUBLISHED-TTL:PT1H
BEGIN:VTIMEZONE
TZID:America/New_York
BEGIN:DAYLIGHT
TZOFFSETFROM:-0500
TZOFFSETTO:-0400
TZNAME:EDT
DTSTART:20250309T070000
END:DAYLIGHT
BEGIN:STANDARD
TZOFFSETFROM:-0400
TZOFFSETTO:-0500
TZNAME:EST
DTSTART:20251102T060000
END:STANDARD
BEGIN:DAYLIGHT
TZOFFSETFROM:-0500
TZOFFSETTO:-0400
TZNAME:EDT
DTSTART:20260308T070000
END:DAYLIGHT
BEGIN:STANDARD
TZOFFSETFROM:-0400
TZOFFSETTO:-0500
TZNAME:EST
DTSTART:20261101T060000
END:STANDARD
BEGIN:DAYLIGHT
TZOFFSETFROM:-0500
TZOFFSETTO:-0400
TZNAME:EDT
DTSTART:20270314T070000
END:DAYLIGHT
BEGIN:STANDARD
TZOFFSETFROM:-0400
TZOFFSETTO:-0500
TZNAME:EST
DTSTART:20271107T060000
END:STANDARD
END:VTIMEZONE
BEGIN:VEVENT
DTSTART;TZID=America/New_York:20260530T190000
DTEND;TZID=America/New_York:20260530T213000
DTSTAMP:20260424T033920
CREATED:20260129T174301Z
LAST-MODIFIED:20260409T162713Z
UID:10004787-1780167600-1780176600@www.wheelingisland.com
SUMMARY:Kashmir - The Led Zeppelin Show
DESCRIPTION:Saturday\, May 30 in The Showroom\nDoors open at 7pm\, show starts at 8pm\nGeneral admission tickets are just $25\nTickets are available now on Ticketmaster.com or by visiting the Lucky North® Rewards desk. \nPurchase Tickets \n\nMust be 21 or older to attend all entertainment.
URL:https://www.wheelingisland.com/event/kashmir-the-live-led-zeppelin-show/
CATEGORIES:Live Entertainment
ATTACH;FMTTYPE=image/jpeg:https://www.wheelingisland.com/wp-content/uploads/2026/01/DN-3729_GWIH_Kashmir_WebPromo_300x250_April26_V2.jpg
END:VEVENT
BEGIN:VEVENT
DTSTART;TZID=America/New_York:20260530T190000
DTEND;TZID=America/New_York:20260530T220000
DTSTAMP:20260424T033920
CREATED:20260423T155219Z
LAST-MODIFIED:20260423T155219Z
UID:10004937-1780167600-1780178400@www.wheelingisland.com
SUMMARY:$700k Klinko Drawings
DESCRIPTION:Saturdays in May & June\n7pm–10pm | Near the Buffet \n\nPlay our Klinko game for a chance at Free Play or cash up to $10\,000 every week! \n7pm–9pm | 10 Free Play winners every hour\n10pm | 5 cash winners \n50 slot\, table games or poker base points = 1 entry \n100 racing base points = 1 entry\n(based on prior day racing wagers) \nEarn double entries Sunday – Thursday!
URL:https://www.wheelingisland.com/event/700k-klinko-drawings/2026-05-30/
CATEGORIES:Promotions
ATTACH;FMTTYPE=image/jpeg:https://www.wheelingisland.com/wp-content/uploads/2026/04/DN-6438_GWIH_Klinko_WebPromo_300x250_Apr26_V1.jpg
END:VEVENT
BEGIN:VEVENT
DTSTART;TZID=America/New_York:20260531T080000
DTEND;TZID=America/New_York:20260531T220000
DTSTAMP:20260424T033920
CREATED:20251230T163905Z
LAST-MODIFIED:20260423T184158Z
UID:10004994-1780214400-1780264800@www.wheelingisland.com
SUMMARY:Levels of Loot Progressive Earn-N-Win
DESCRIPTION:Sundays | 8am – 10pm \n\nEarn points and redeem Free Play. Swipe at any kiosk to play a game and win up to $5\,000 Free Play!
URL:https://www.wheelingisland.com/event/levels-of-loot-progressive-earn-n-win/2026-05-31/
CATEGORIES:Promotions
ATTACH;FMTTYPE=image/jpeg:https://www.wheelingisland.com/wp-content/uploads/2025/12/DN_709_GWIH_LevelsOfLoot_Progressive_Earn_WebPromo_300x250_Dec25.jpg
END:VEVENT
BEGIN:VEVENT
DTSTART;TZID=America/New_York:20260531T160000
DTEND;TZID=America/New_York:20260531T190000
DTSTAMP:20260424T033920
CREATED:20251230T162407Z
LAST-MODIFIED:20260423T190358Z
UID:10004999-1780243200-1780254000@www.wheelingisland.com
SUMMARY:Friends with More Benefits
DESCRIPTION:Sundays* | 4pm – 7pm | The Island Stage\n*Excluding May 10 \n\n10 winners every hour! \nEarn 50 base points on Sunday and you’ll win Free Play for you and a friend. That’s $100 Free Play for you and your friend. Spin the wheel to multiply both prizes UP TO 10X!
URL:https://www.wheelingisland.com/event/friends-with-more-benefits/2026-05-31/
CATEGORIES:Promotions
ATTACH;FMTTYPE=image/jpeg:https://www.wheelingisland.com/wp-content/uploads/2025/12/DN_709_GWIH_FriendsWithMoreBenefits_WebPromo_300x250_Dec25.jpg
END:VEVENT
BEGIN:VEVENT
DTSTART;TZID=America/New_York:20260605T190000
DTEND;TZID=America/New_York:20260605T220000
DTSTAMP:20260424T033920
CREATED:20260423T155701Z
LAST-MODIFIED:20260423T155701Z
UID:10004947-1780686000-1780696800@www.wheelingisland.com
SUMMARY:$350k Table Games Money Grab Drawings
DESCRIPTION:Fridays in May & June\n7pm – 10pm | Table Games Area \n\n5 players every hour enter our Money Grab Machine to win! \nGuaranteed to win at least $100. Earn entries by winning a qualifying hand on any table game or poker. \nEarn Double Entries Sunday – Thursday! \nDrop your entries into the drum starting at 6pm for your chance to win.
URL:https://www.wheelingisland.com/event/350k-table-games-money-grab-drawings/2026-06-05/
CATEGORIES:Promotions
ATTACH;FMTTYPE=image/jpeg:https://www.wheelingisland.com/wp-content/uploads/2026/04/DN-6438_GWIH_MoneyGrab_WebPromo_300x250_Apr26_V1.jpg
END:VEVENT
BEGIN:VEVENT
DTSTART;TZID=America/New_York:20260606T190000
DTEND;TZID=America/New_York:20260606T220000
DTSTAMP:20260424T033920
CREATED:20260423T155219Z
LAST-MODIFIED:20260423T155219Z
UID:10004938-1780772400-1780783200@www.wheelingisland.com
SUMMARY:$700k Klinko Drawings
DESCRIPTION:Saturdays in May & June\n7pm–10pm | Near the Buffet \n\nPlay our Klinko game for a chance at Free Play or cash up to $10\,000 every week! \n7pm–9pm | 10 Free Play winners every hour\n10pm | 5 cash winners \n50 slot\, table games or poker base points = 1 entry \n100 racing base points = 1 entry\n(based on prior day racing wagers) \nEarn double entries Sunday – Thursday!
URL:https://www.wheelingisland.com/event/700k-klinko-drawings/2026-06-06/
CATEGORIES:Promotions
ATTACH;FMTTYPE=image/jpeg:https://www.wheelingisland.com/wp-content/uploads/2026/04/DN-6438_GWIH_Klinko_WebPromo_300x250_Apr26_V1.jpg
END:VEVENT
BEGIN:VEVENT
DTSTART;TZID=America/New_York:20260612T190000
DTEND;TZID=America/New_York:20260612T220000
DTSTAMP:20260424T033920
CREATED:20260423T155701Z
LAST-MODIFIED:20260423T155701Z
UID:10004948-1781290800-1781301600@www.wheelingisland.com
SUMMARY:$350k Table Games Money Grab Drawings
DESCRIPTION:Fridays in May & June\n7pm – 10pm | Table Games Area \n\n5 players every hour enter our Money Grab Machine to win! \nGuaranteed to win at least $100. Earn entries by winning a qualifying hand on any table game or poker. \nEarn Double Entries Sunday – Thursday! \nDrop your entries into the drum starting at 6pm for your chance to win.
URL:https://www.wheelingisland.com/event/350k-table-games-money-grab-drawings/2026-06-12/
CATEGORIES:Promotions
ATTACH;FMTTYPE=image/jpeg:https://www.wheelingisland.com/wp-content/uploads/2026/04/DN-6438_GWIH_MoneyGrab_WebPromo_300x250_Apr26_V1.jpg
END:VEVENT
BEGIN:VEVENT
DTSTART;TZID=America/New_York:20260613T190000
DTEND;TZID=America/New_York:20260613T213000
DTSTAMP:20260424T033920
CREATED:20260129T175004Z
LAST-MODIFIED:20260129T175004Z
UID:10004788-1781377200-1781386200@www.wheelingisland.com
SUMMARY:The Rush Experience
DESCRIPTION:Saturday\, June 13 in The Showroom\nDoors open at 7pm\, show starts at 8pm\nGeneral admission tickets are just $25\nTickets are available now on Ticketmaster.com or by visiting the Lucky North® Rewards desk. \nPurchase Tickets \n\nMust be 21 or older to attend all entertainment.
URL:https://www.wheelingisland.com/event/the-rush-experience/
CATEGORIES:Live Entertainment
ATTACH;FMTTYPE=image/jpeg:https://www.wheelingisland.com/wp-content/uploads/2025/01/Wheeling-StagedConcertImage-Promo.jpg
END:VEVENT
BEGIN:VEVENT
DTSTART;TZID=America/New_York:20260613T190000
DTEND;TZID=America/New_York:20260613T220000
DTSTAMP:20260424T033920
CREATED:20260423T155219Z
LAST-MODIFIED:20260423T155219Z
UID:10004939-1781377200-1781388000@www.wheelingisland.com
SUMMARY:$700k Klinko Drawings
DESCRIPTION:Saturdays in May & June\n7pm–10pm | Near the Buffet \n\nPlay our Klinko game for a chance at Free Play or cash up to $10\,000 every week! \n7pm–9pm | 10 Free Play winners every hour\n10pm | 5 cash winners \n50 slot\, table games or poker base points = 1 entry \n100 racing base points = 1 entry\n(based on prior day racing wagers) \nEarn double entries Sunday – Thursday!
URL:https://www.wheelingisland.com/event/700k-klinko-drawings/2026-06-13/
CATEGORIES:Promotions
ATTACH;FMTTYPE=image/jpeg:https://www.wheelingisland.com/wp-content/uploads/2026/04/DN-6438_GWIH_Klinko_WebPromo_300x250_Apr26_V1.jpg
END:VEVENT
BEGIN:VEVENT
DTSTART;TZID=America/New_York:20260619T190000
DTEND;TZID=America/New_York:20260619T220000
DTSTAMP:20260424T033920
CREATED:20260423T155701Z
LAST-MODIFIED:20260423T155701Z
UID:10004949-1781895600-1781906400@www.wheelingisland.com
SUMMARY:$350k Table Games Money Grab Drawings
DESCRIPTION:Fridays in May & June\n7pm – 10pm | Table Games Area \n\n5 players every hour enter our Money Grab Machine to win! \nGuaranteed to win at least $100. Earn entries by winning a qualifying hand on any table game or poker. \nEarn Double Entries Sunday – Thursday! \nDrop your entries into the drum starting at 6pm for your chance to win.
URL:https://www.wheelingisland.com/event/350k-table-games-money-grab-drawings/2026-06-19/
CATEGORIES:Promotions
ATTACH;FMTTYPE=image/jpeg:https://www.wheelingisland.com/wp-content/uploads/2026/04/DN-6438_GWIH_MoneyGrab_WebPromo_300x250_Apr26_V1.jpg
END:VEVENT
BEGIN:VEVENT
DTSTART;TZID=America/New_York:20260620T190000
DTEND;TZID=America/New_York:20260620T220000
DTSTAMP:20260424T033920
CREATED:20260423T155219Z
LAST-MODIFIED:20260423T155219Z
UID:10004940-1781982000-1781992800@www.wheelingisland.com
SUMMARY:$700k Klinko Drawings
DESCRIPTION:Saturdays in May & June\n7pm–10pm | Near the Buffet \n\nPlay our Klinko game for a chance at Free Play or cash up to $10\,000 every week! \n7pm–9pm | 10 Free Play winners every hour\n10pm | 5 cash winners \n50 slot\, table games or poker base points = 1 entry \n100 racing base points = 1 entry\n(based on prior day racing wagers) \nEarn double entries Sunday – Thursday!
URL:https://www.wheelingisland.com/event/700k-klinko-drawings/2026-06-20/
CATEGORIES:Promotions
ATTACH;FMTTYPE=image/jpeg:https://www.wheelingisland.com/wp-content/uploads/2026/04/DN-6438_GWIH_Klinko_WebPromo_300x250_Apr26_V1.jpg
END:VEVENT
BEGIN:VEVENT
DTSTART;TZID=America/New_York:20260626T190000
DTEND;TZID=America/New_York:20260626T220000
DTSTAMP:20260424T033920
CREATED:20260423T155701Z
LAST-MODIFIED:20260423T155701Z
UID:10004950-1782500400-1782511200@www.wheelingisland.com
SUMMARY:$350k Table Games Money Grab Drawings
DESCRIPTION:Fridays in May & June\n7pm – 10pm | Table Games Area \n\n5 players every hour enter our Money Grab Machine to win! \nGuaranteed to win at least $100. Earn entries by winning a qualifying hand on any table game or poker. \nEarn Double Entries Sunday – Thursday! \nDrop your entries into the drum starting at 6pm for your chance to win.
URL:https://www.wheelingisland.com/event/350k-table-games-money-grab-drawings/2026-06-26/
CATEGORIES:Promotions
ATTACH;FMTTYPE=image/jpeg:https://www.wheelingisland.com/wp-content/uploads/2026/04/DN-6438_GWIH_MoneyGrab_WebPromo_300x250_Apr26_V1.jpg
END:VEVENT
BEGIN:VEVENT
DTSTART;TZID=America/New_York:20260627T190000
DTEND;TZID=America/New_York:20260627T213000
DTSTAMP:20260424T033920
CREATED:20260129T175342Z
LAST-MODIFIED:20260129T175342Z
UID:10004789-1782586800-1782595800@www.wheelingisland.com
SUMMARY:Sabbath - The Complete Black Sabbath Experience
DESCRIPTION:Saturday\, June 27 in The Showroom\nDoors open at 7pm\, show starts at 8pm\nGeneral admission tickets are just $25\nTickets are available now on Ticketmaster.com or by visiting the Lucky North® Rewards desk. \nPurchase Tickets \n\nMust be 21 or older to attend all entertainment.
URL:https://www.wheelingisland.com/event/sabbath-complete-black-sabbath-experience/
CATEGORIES:Live Entertainment
ATTACH;FMTTYPE=image/jpeg:https://www.wheelingisland.com/wp-content/uploads/2025/01/Wheeling-StagedConcertImage-Promo.jpg
END:VEVENT
BEGIN:VEVENT
DTSTART;TZID=America/New_York:20260627T190000
DTEND;TZID=America/New_York:20260627T220000
DTSTAMP:20260424T033920
CREATED:20260423T155219Z
LAST-MODIFIED:20260423T155219Z
UID:10004941-1782586800-1782597600@www.wheelingisland.com
SUMMARY:$700k Klinko Drawings
DESCRIPTION:Saturdays in May & June\n7pm–10pm | Near the Buffet \n\nPlay our Klinko game for a chance at Free Play or cash up to $10\,000 every week! \n7pm–9pm | 10 Free Play winners every hour\n10pm | 5 cash winners \n50 slot\, table games or poker base points = 1 entry \n100 racing base points = 1 entry\n(based on prior day racing wagers) \nEarn double entries Sunday – Thursday!
URL:https://www.wheelingisland.com/event/700k-klinko-drawings/2026-06-27/
CATEGORIES:Promotions
ATTACH;FMTTYPE=image/jpeg:https://www.wheelingisland.com/wp-content/uploads/2026/04/DN-6438_GWIH_Klinko_WebPromo_300x250_Apr26_V1.jpg
END:VEVENT
BEGIN:VEVENT
DTSTART;TZID=America/New_York:20260703T150000
DTEND;TZID=America/New_York:20260703T220000
DTSTAMP:20260424T033920
CREATED:20250304T210753Z
LAST-MODIFIED:20260327T182953Z
UID:10003423-1783090800-1783116000@www.wheelingisland.com
SUMMARY:Independence Day Fun Festival
DESCRIPTION:Friday\, July 3 | 3pm – 10pm | The Parking Lot\nFree Admission & Activities For All Ages!\n\nJoin us for live entertainment\, carnival rides\, games\, food trucks\, live racing and a fireworks show! \nLive Entertainment\, Earn & Get Promotions\, Free Play\, Truck Bucks\, T-Shirt Giveaway and more! \n 
URL:https://www.wheelingisland.com/event/independence-day-fun-festival/
CATEGORIES:Festival
ATTACH;FMTTYPE=image/jpeg:https://www.wheelingisland.com/wp-content/uploads/2026/03/DN-5340_GWIH_SaveDate_FunFestival_IndependenceDay_WebPromo_300x250_Mar26_V1.jpg
END:VEVENT
BEGIN:VEVENT
DTSTART;TZID=America/New_York:20260724T190000
DTEND;TZID=America/New_York:20260724T213000
DTSTAMP:20260424T033920
CREATED:20260129T164834Z
LAST-MODIFIED:20260401T130704Z
UID:10004784-1784919600-1784928600@www.wheelingisland.com
SUMMARY:7 Summers: The Ultimate Morgan Wallen Tribute
DESCRIPTION:Friday\, July 24th in The Showroom\nDoors open at 7pm\, show starts at 8pm\nGeneral admission tickets are just $25\nTickets are available now on Ticketmaster.com or by visiting the Lucky North® Rewards desk. \nPurchase Tickets \n\nMust be 21 or older to attend all entertainment.
URL:https://www.wheelingisland.com/event/7-summers-the-ultimate-morgan-wallen-tribute/
CATEGORIES:Live Entertainment
ATTACH;FMTTYPE=image/jpeg:https://www.wheelingisland.com/wp-content/uploads/2026/02/DN-3718_GWIH_7Summers_Wallen_WebPromo_300x250Feb26_v1.jpg
END:VEVENT
END:VCALENDAR