BEGIN:VCALENDAR
VERSION:2.0
PRODID:-//Wheeling Island - ECPv6.15.20//NONSGML v1.0//EN
CALSCALE:GREGORIAN
METHOD:PUBLISH
X-WR-CALNAME:Wheeling Island
X-ORIGINAL-URL:https://www.wheelingisland.com
X-WR-CALDESC:Events for Wheeling Island
REFRESH-INTERVAL;VALUE=DURATION:PT1H
X-Robots-Tag:noindex
X-PUBLISHED-TTL:PT1H
BEGIN:VTIMEZONE
TZID:America/New_York
BEGIN:DAYLIGHT
TZOFFSETFROM:-0500
TZOFFSETTO:-0400
TZNAME:EDT
DTSTART:20250309T070000
END:DAYLIGHT
BEGIN:STANDARD
TZOFFSETFROM:-0400
TZOFFSETTO:-0500
TZNAME:EST
DTSTART:20251102T060000
END:STANDARD
BEGIN:DAYLIGHT
TZOFFSETFROM:-0500
TZOFFSETTO:-0400
TZNAME:EDT
DTSTART:20260308T070000
END:DAYLIGHT
BEGIN:STANDARD
TZOFFSETFROM:-0400
TZOFFSETTO:-0500
TZNAME:EST
DTSTART:20261101T060000
END:STANDARD
BEGIN:DAYLIGHT
TZOFFSETFROM:-0500
TZOFFSETTO:-0400
TZNAME:EDT
DTSTART:20270314T070000
END:DAYLIGHT
BEGIN:STANDARD
TZOFFSETFROM:-0400
TZOFFSETTO:-0500
TZNAME:EST
DTSTART:20271107T060000
END:STANDARD
END:VTIMEZONE
BEGIN:VEVENT
DTSTART;TZID=America/New_York:20260416T170000
DTEND;TZID=America/New_York:20260416T220000
DTSTAMP:20260424T080925
CREATED:20260216T162151Z
LAST-MODIFIED:20260327T182244Z
UID:10004925-1776358800-1776376800@www.wheelingisland.com
SUMMARY:The Pointe Midweek Dinner for Two
DESCRIPTION:Wednesdays & Thursdays | 5pm–10pm | $89.99 Per Couple*\n\nShared chopped salad\, two 6 oz filets with mashed potatoes\, asparagus and ultimate chocolate cake. \n*Tax and gratuity not included. Make your reservations on Opentable.com.
URL:https://www.wheelingisland.com/event/the-pointe-midweek-dinner-for-two-jan-2/2026-04-16/
CATEGORIES:Dining
ATTACH;FMTTYPE=image/jpeg:https://www.wheelingisland.com/wp-content/uploads/2025/09/GWHI7516_ThePointe_WebPromo_300x250_Sept25.jpg
END:VEVENT
BEGIN:VEVENT
DTSTART;TZID=America/New_York:20260422T080000
DTEND;TZID=America/New_York:20260422T200000
DTSTAMP:20260424T080925
CREATED:20260216T164935Z
LAST-MODIFIED:20260423T175942Z
UID:10004889-1776844800-1776888000@www.wheelingisland.com
SUMMARY:Wing & Taco Wednesday
DESCRIPTION:Earn & Redeem | 8am – 7:30pm\nDine | 3pm – 8pm \n\nEarn points and swipe at any kiosk for your Wednesday buffet credit. \n100 Base Points: $30 Buffet Credit\n200 Base Points: $60 Buffet Credit
URL:https://www.wheelingisland.com/event/wing-taco-wednesday/2026-04-22/
CATEGORIES:Dining,Promotions
ATTACH;FMTTYPE=image/jpeg:https://www.wheelingisland.com/wp-content/uploads/2026/02/DN-3301_GWIH_WingTacoWeds_WebPromo_300x250_Feb26_V1.jpg
END:VEVENT
BEGIN:VEVENT
DTSTART;TZID=America/New_York:20260422T170000
DTEND;TZID=America/New_York:20260422T220000
DTSTAMP:20260424T080926
CREATED:20260216T162151Z
LAST-MODIFIED:20260327T182244Z
UID:10004926-1776877200-1776895200@www.wheelingisland.com
SUMMARY:The Pointe Midweek Dinner for Two
DESCRIPTION:Wednesdays & Thursdays | 5pm–10pm | $89.99 Per Couple*\n\nShared chopped salad\, two 6 oz filets with mashed potatoes\, asparagus and ultimate chocolate cake. \n*Tax and gratuity not included. Make your reservations on Opentable.com.
URL:https://www.wheelingisland.com/event/the-pointe-midweek-dinner-for-two-jan-2/2026-04-22/
CATEGORIES:Dining
ATTACH;FMTTYPE=image/jpeg:https://www.wheelingisland.com/wp-content/uploads/2025/09/GWHI7516_ThePointe_WebPromo_300x250_Sept25.jpg
END:VEVENT
BEGIN:VEVENT
DTSTART;TZID=America/New_York:20260423T170000
DTEND;TZID=America/New_York:20260423T220000
DTSTAMP:20260424T080926
CREATED:20260216T162151Z
LAST-MODIFIED:20260327T182244Z
UID:10004927-1776963600-1776981600@www.wheelingisland.com
SUMMARY:The Pointe Midweek Dinner for Two
DESCRIPTION:Wednesdays & Thursdays | 5pm–10pm | $89.99 Per Couple*\n\nShared chopped salad\, two 6 oz filets with mashed potatoes\, asparagus and ultimate chocolate cake. \n*Tax and gratuity not included. Make your reservations on Opentable.com.
URL:https://www.wheelingisland.com/event/the-pointe-midweek-dinner-for-two-jan-2/2026-04-23/
CATEGORIES:Dining
ATTACH;FMTTYPE=image/jpeg:https://www.wheelingisland.com/wp-content/uploads/2025/09/GWHI7516_ThePointe_WebPromo_300x250_Sept25.jpg
END:VEVENT
BEGIN:VEVENT
DTSTART;TZID=America/New_York:20260426T110000
DTEND;TZID=America/New_York:20260426T110000
DTSTAMP:20260424T080926
CREATED:20260327T182005Z
LAST-MODIFIED:20260327T182005Z
UID:10004919-1777201200-1777201200@www.wheelingisland.com
SUMMARY:National Pretzel Day at Cask & Clover
DESCRIPTION:Sunday\, April 26 | 11am – Midnight \n$10.99 for a giant soft pretzel
URL:https://www.wheelingisland.com/event/national-pretzel-day-at-cask-clover/
CATEGORIES:Dining
ATTACH;FMTTYPE=image/jpeg:https://www.wheelingisland.com/wp-content/uploads/2026/03/DN-5126_GWIH_NationalPretzelDay_WebPromo_300x250_Mar26_V1.jpg
END:VEVENT
BEGIN:VEVENT
DTSTART;TZID=America/New_York:20260429T080000
DTEND;TZID=America/New_York:20260429T200000
DTSTAMP:20260424T080926
CREATED:20260216T164935Z
LAST-MODIFIED:20260423T175942Z
UID:10004890-1777449600-1777492800@www.wheelingisland.com
SUMMARY:Wing & Taco Wednesday
DESCRIPTION:Earn & Redeem | 8am – 7:30pm\nDine | 3pm – 8pm \n\nEarn points and swipe at any kiosk for your Wednesday buffet credit. \n100 Base Points: $30 Buffet Credit\n200 Base Points: $60 Buffet Credit
URL:https://www.wheelingisland.com/event/wing-taco-wednesday/2026-04-29/
CATEGORIES:Dining,Promotions
ATTACH;FMTTYPE=image/jpeg:https://www.wheelingisland.com/wp-content/uploads/2026/02/DN-3301_GWIH_WingTacoWeds_WebPromo_300x250_Feb26_V1.jpg
END:VEVENT
BEGIN:VEVENT
DTSTART;TZID=America/New_York:20260429T170000
DTEND;TZID=America/New_York:20260429T220000
DTSTAMP:20260424T080926
CREATED:20260216T162151Z
LAST-MODIFIED:20260327T182244Z
UID:10004928-1777482000-1777500000@www.wheelingisland.com
SUMMARY:The Pointe Midweek Dinner for Two
DESCRIPTION:Wednesdays & Thursdays | 5pm–10pm | $89.99 Per Couple*\n\nShared chopped salad\, two 6 oz filets with mashed potatoes\, asparagus and ultimate chocolate cake. \n*Tax and gratuity not included. Make your reservations on Opentable.com.
URL:https://www.wheelingisland.com/event/the-pointe-midweek-dinner-for-two-jan-2/2026-04-29/
CATEGORIES:Dining
ATTACH;FMTTYPE=image/jpeg:https://www.wheelingisland.com/wp-content/uploads/2025/09/GWHI7516_ThePointe_WebPromo_300x250_Sept25.jpg
END:VEVENT
BEGIN:VEVENT
DTSTART;TZID=America/New_York:20260430T170000
DTEND;TZID=America/New_York:20260430T220000
DTSTAMP:20260424T080926
CREATED:20260216T162151Z
LAST-MODIFIED:20260327T182244Z
UID:10004929-1777568400-1777586400@www.wheelingisland.com
SUMMARY:The Pointe Midweek Dinner for Two
DESCRIPTION:Wednesdays & Thursdays | 5pm–10pm | $89.99 Per Couple*\n\nShared chopped salad\, two 6 oz filets with mashed potatoes\, asparagus and ultimate chocolate cake. \n*Tax and gratuity not included. Make your reservations on Opentable.com.
URL:https://www.wheelingisland.com/event/the-pointe-midweek-dinner-for-two-jan-2/2026-04-30/
CATEGORIES:Dining
ATTACH;FMTTYPE=image/jpeg:https://www.wheelingisland.com/wp-content/uploads/2025/09/GWHI7516_ThePointe_WebPromo_300x250_Sept25.jpg
END:VEVENT
BEGIN:VEVENT
DTSTART;TZID=America/New_York:20260502T150000
DTEND;TZID=America/New_York:20260502T220000
DTSTAMP:20260424T080926
CREATED:20260423T202304Z
LAST-MODIFIED:20260423T202304Z
UID:10005000-1777734000-1777759200@www.wheelingisland.com
SUMMARY:Derby Day Buffet Special
DESCRIPTION:Saturday\, May 2 | 3pm – 10pm \n$36.99 – All-you-can-eat rib eye\, Derby-style food and all your buffet favorites. Add a pound of crab legs for $20.
URL:https://www.wheelingisland.com/event/derby-day-buffet-special/
CATEGORIES:Dining
ATTACH;FMTTYPE=image/jpeg:https://www.wheelingisland.com/wp-content/uploads/2026/04/DN-6438_GWIH_DerbyBuffet_WebPromo_300x250_Apr26_V1.jpg
END:VEVENT
BEGIN:VEVENT
DTSTART;TZID=America/New_York:20260506T080000
DTEND;TZID=America/New_York:20260506T200000
DTSTAMP:20260424T080926
CREATED:20260216T164935Z
LAST-MODIFIED:20260423T175942Z
UID:10004963-1778054400-1778097600@www.wheelingisland.com
SUMMARY:Wing & Taco Wednesday
DESCRIPTION:Earn & Redeem | 8am – 7:30pm\nDine | 3pm – 8pm \n\nEarn points and swipe at any kiosk for your Wednesday buffet credit. \n100 Base Points: $30 Buffet Credit\n200 Base Points: $60 Buffet Credit
URL:https://www.wheelingisland.com/event/wing-taco-wednesday/2026-05-06/
CATEGORIES:Dining,Promotions
ATTACH;FMTTYPE=image/jpeg:https://www.wheelingisland.com/wp-content/uploads/2026/02/DN-3301_GWIH_WingTacoWeds_WebPromo_300x250_Feb26_V1.jpg
END:VEVENT
BEGIN:VEVENT
DTSTART;TZID=America/New_York:20260513T080000
DTEND;TZID=America/New_York:20260513T200000
DTSTAMP:20260424T080926
CREATED:20260216T164935Z
LAST-MODIFIED:20260423T175942Z
UID:10004964-1778659200-1778702400@www.wheelingisland.com
SUMMARY:Wing & Taco Wednesday
DESCRIPTION:Earn & Redeem | 8am – 7:30pm\nDine | 3pm – 8pm \n\nEarn points and swipe at any kiosk for your Wednesday buffet credit. \n100 Base Points: $30 Buffet Credit\n200 Base Points: $60 Buffet Credit
URL:https://www.wheelingisland.com/event/wing-taco-wednesday/2026-05-13/
CATEGORIES:Dining,Promotions
ATTACH;FMTTYPE=image/jpeg:https://www.wheelingisland.com/wp-content/uploads/2026/02/DN-3301_GWIH_WingTacoWeds_WebPromo_300x250_Feb26_V1.jpg
END:VEVENT
BEGIN:VEVENT
DTSTART;TZID=America/New_York:20260520T080000
DTEND;TZID=America/New_York:20260520T200000
DTSTAMP:20260424T080926
CREATED:20260216T164935Z
LAST-MODIFIED:20260423T175942Z
UID:10004965-1779264000-1779307200@www.wheelingisland.com
SUMMARY:Wing & Taco Wednesday
DESCRIPTION:Earn & Redeem | 8am – 7:30pm\nDine | 3pm – 8pm \n\nEarn points and swipe at any kiosk for your Wednesday buffet credit. \n100 Base Points: $30 Buffet Credit\n200 Base Points: $60 Buffet Credit
URL:https://www.wheelingisland.com/event/wing-taco-wednesday/2026-05-20/
CATEGORIES:Dining,Promotions
ATTACH;FMTTYPE=image/jpeg:https://www.wheelingisland.com/wp-content/uploads/2026/02/DN-3301_GWIH_WingTacoWeds_WebPromo_300x250_Feb26_V1.jpg
END:VEVENT
BEGIN:VEVENT
DTSTART;TZID=America/New_York:20260527T080000
DTEND;TZID=America/New_York:20260527T200000
DTSTAMP:20260424T080926
CREATED:20260216T164935Z
LAST-MODIFIED:20260423T175942Z
UID:10004966-1779868800-1779912000@www.wheelingisland.com
SUMMARY:Wing & Taco Wednesday
DESCRIPTION:Earn & Redeem | 8am – 7:30pm\nDine | 3pm – 8pm \n\nEarn points and swipe at any kiosk for your Wednesday buffet credit. \n100 Base Points: $30 Buffet Credit\n200 Base Points: $60 Buffet Credit
URL:https://www.wheelingisland.com/event/wing-taco-wednesday/2026-05-27/
CATEGORIES:Dining,Promotions
ATTACH;FMTTYPE=image/jpeg:https://www.wheelingisland.com/wp-content/uploads/2026/02/DN-3301_GWIH_WingTacoWeds_WebPromo_300x250_Feb26_V1.jpg
END:VEVENT
END:VCALENDAR