BEGIN:VCALENDAR
VERSION:2.0
PRODID:-//Wheeling Island - ECPv6.15.20//NONSGML v1.0//EN
CALSCALE:GREGORIAN
METHOD:PUBLISH
X-WR-CALNAME:Wheeling Island
X-ORIGINAL-URL:https://www.wheelingisland.com
X-WR-CALDESC:Events for Wheeling Island
REFRESH-INTERVAL;VALUE=DURATION:PT1H
X-Robots-Tag:noindex
X-PUBLISHED-TTL:PT1H
BEGIN:VTIMEZONE
TZID:America/New_York
BEGIN:DAYLIGHT
TZOFFSETFROM:-0500
TZOFFSETTO:-0400
TZNAME:EDT
DTSTART:20250309T070000
END:DAYLIGHT
BEGIN:STANDARD
TZOFFSETFROM:-0400
TZOFFSETTO:-0500
TZNAME:EST
DTSTART:20251102T060000
END:STANDARD
BEGIN:DAYLIGHT
TZOFFSETFROM:-0500
TZOFFSETTO:-0400
TZNAME:EDT
DTSTART:20260308T070000
END:DAYLIGHT
BEGIN:STANDARD
TZOFFSETFROM:-0400
TZOFFSETTO:-0500
TZNAME:EST
DTSTART:20261101T060000
END:STANDARD
BEGIN:DAYLIGHT
TZOFFSETFROM:-0500
TZOFFSETTO:-0400
TZNAME:EDT
DTSTART:20270314T070000
END:DAYLIGHT
BEGIN:STANDARD
TZOFFSETFROM:-0400
TZOFFSETTO:-0500
TZNAME:EST
DTSTART:20271107T060000
END:STANDARD
END:VTIMEZONE
BEGIN:VEVENT
DTSTART;TZID=America/New_York:20260426T080000
DTEND;TZID=America/New_York:20260426T220000
DTSTAMP:20260424T113152
CREATED:20251230T163905Z
LAST-MODIFIED:20260423T184158Z
UID:10004873-1777190400-1777240800@www.wheelingisland.com
SUMMARY:Levels of Loot Progressive Earn-N-Win
DESCRIPTION:Sundays | 8am – 10pm \n\nEarn points and redeem Free Play. Swipe at any kiosk to play a game and win up to $5\,000 Free Play!
URL:https://www.wheelingisland.com/event/levels-of-loot-progressive-earn-n-win/2026-04-26/
CATEGORIES:Promotions
ATTACH;FMTTYPE=image/jpeg:https://www.wheelingisland.com/wp-content/uploads/2025/12/DN_709_GWIH_LevelsOfLoot_Progressive_Earn_WebPromo_300x250_Dec25.jpg
END:VEVENT
BEGIN:VEVENT
DTSTART;TZID=America/New_York:20260426T110000
DTEND;TZID=America/New_York:20260426T110000
DTSTAMP:20260424T113152
CREATED:20260327T182005Z
LAST-MODIFIED:20260327T182005Z
UID:10004919-1777201200-1777201200@www.wheelingisland.com
SUMMARY:National Pretzel Day at Cask & Clover
DESCRIPTION:Sunday\, April 26 | 11am – Midnight \n$10.99 for a giant soft pretzel
URL:https://www.wheelingisland.com/event/national-pretzel-day-at-cask-clover/
CATEGORIES:Dining
ATTACH;FMTTYPE=image/jpeg:https://www.wheelingisland.com/wp-content/uploads/2026/03/DN-5126_GWIH_NationalPretzelDay_WebPromo_300x250_Mar26_V1.jpg
END:VEVENT
BEGIN:VEVENT
DTSTART;TZID=America/New_York:20260426T160000
DTEND;TZID=America/New_York:20260426T190000
DTSTAMP:20260424T113152
CREATED:20251230T162407Z
LAST-MODIFIED:20260423T190358Z
UID:10004916-1777219200-1777230000@www.wheelingisland.com
SUMMARY:Friends with More Benefits
DESCRIPTION:Sundays* | 4pm – 7pm | The Island Stage\n*Excluding May 10 \n\n10 winners every hour! \nEarn 50 base points on Sunday and you’ll win Free Play for you and a friend. That’s $100 Free Play for you and your friend. Spin the wheel to multiply both prizes UP TO 10X!
URL:https://www.wheelingisland.com/event/friends-with-more-benefits/2026-04-26/
CATEGORIES:Promotions
ATTACH;FMTTYPE=image/jpeg:https://www.wheelingisland.com/wp-content/uploads/2025/12/DN_709_GWIH_FriendsWithMoreBenefits_WebPromo_300x250_Dec25.jpg
END:VEVENT
END:VCALENDAR